BEGIN:VCALENDAR
VERSION:2.0
PRODID:-//The TAM - ECPv6.15.20//NONSGML v1.0//EN
CALSCALE:GREGORIAN
METHOD:PUBLISH
X-WR-CALNAME:The TAM
X-ORIGINAL-URL:https://tamarindoartisanalmarket.com
X-WR-CALDESC:Events for The TAM
REFRESH-INTERVAL;VALUE=DURATION:PT1H
X-Robots-Tag:noindex
X-PUBLISHED-TTL:PT1H
BEGIN:VTIMEZONE
TZID:America/Costa_Rica
BEGIN:STANDARD
TZOFFSETFROM:-0600
TZOFFSETTO:-0600
TZNAME:CST
DTSTART:20240101T000000
END:STANDARD
END:VTIMEZONE
BEGIN:VEVENT
DTSTART;TZID=America/Costa_Rica:20251105T170000
DTEND;TZID=America/Costa_Rica:20251105T210000
DTSTAMP:20260424T113749
CREATED:20251030T142949Z
LAST-MODIFIED:20251030T144528Z
UID:1572-1762362000-1762376400@tamarindoartisanalmarket.com
SUMMARY:Night Market at the TAM
DESCRIPTION:Experience Tamarindo’s vibrant Night Market! Discover local art\, live workshops\, handmade goods\, and delicious global flavors under the stars. Meet artisans\, sip kombucha\, enjoy music\, and feel the creative energy that brings the community together every week. \n¡Vení a vivir la magia del Night Market de Tamarindo! Descubrí arte local\, talleres en vivo\, productos hechos a mano y sabores del mundo bajo las estrellas. Conocé a los artesanos\, probá kombucha\, disfrutá buena música y sentí la energía creativa que une a la comunidad.
URL:https://tamarindoartisanalmarket.com/event/night-market-at-the-tam/
LOCATION:The TAM\, 2nd Floor above Super Compro\, across from the skate park\, Tamarindo\, Guanacaste\, Costa Rica
ATTACH;FMTTYPE=image/jpeg:https://tamarindoartisanalmarket.com/wp-content/uploads/2025/10/WhatsApp-Image-2025-10-28-at-2.07.41-PM-1.jpeg
END:VEVENT
BEGIN:VEVENT
DTSTART;TZID=America/Costa_Rica:20251103T090000
DTEND;TZID=America/Costa_Rica:20251103T170000
DTSTAMP:20260424T113749
CREATED:20251030T142300Z
LAST-MODIFIED:20251030T142300Z
UID:1569-1762160400-1762189200@tamarindoartisanalmarket.com
SUMMARY:Opening Day
DESCRIPTION:
URL:https://tamarindoartisanalmarket.com/event/opening-day/
LOCATION:The TAM\, 2nd Floor above Super Compro\, across from the skate park\, Tamarindo\, Guanacaste\, Costa Rica
ATTACH;FMTTYPE=image/png:https://tamarindoartisanalmarket.com/wp-content/uploads/2025/10/Sign-for-THE-TAM-scaled.png
END:VEVENT
END:VCALENDAR